BEGIN:VCALENDAR
VERSION:2.0
PRODID:-//Commmonwealth Club of Adelaide - ECPv6.15.18//NONSGML v1.0//EN
CALSCALE:GREGORIAN
METHOD:PUBLISH
X-WR-CALNAME:Commmonwealth Club of Adelaide
X-ORIGINAL-URL:https://commonwealthclubofadelaide.org.au
X-WR-CALDESC:Events for Commmonwealth Club of Adelaide
REFRESH-INTERVAL;VALUE=DURATION:PT1H
X-Robots-Tag:noindex
X-PUBLISHED-TTL:PT1H
BEGIN:VTIMEZONE
TZID:Australia/Adelaide
BEGIN:STANDARD
TZOFFSETFROM:+1030
TZOFFSETTO:+0930
TZNAME:ACST
DTSTART:20250405T163000
END:STANDARD
BEGIN:DAYLIGHT
TZOFFSETFROM:+0930
TZOFFSETTO:+1030
TZNAME:ACDT
DTSTART:20251004T163000
END:DAYLIGHT
BEGIN:STANDARD
TZOFFSETFROM:+1030
TZOFFSETTO:+0930
TZNAME:ACST
DTSTART:20260404T163000
END:STANDARD
BEGIN:DAYLIGHT
TZOFFSETFROM:+0930
TZOFFSETTO:+1030
TZNAME:ACDT
DTSTART:20261003T163000
END:DAYLIGHT
BEGIN:STANDARD
TZOFFSETFROM:+1030
TZOFFSETTO:+0930
TZNAME:ACST
DTSTART:20270403T163000
END:STANDARD
BEGIN:DAYLIGHT
TZOFFSETFROM:+0930
TZOFFSETTO:+1030
TZNAME:ACDT
DTSTART:20271002T163000
END:DAYLIGHT
END:VTIMEZONE
BEGIN:VEVENT
DTSTART;TZID=Australia/Adelaide:20260428T123000
DTEND;TZID=Australia/Adelaide:20260428T140000
DTSTAMP:20260423T215920
CREATED:20260407T001452Z
LAST-MODIFIED:20260407T001452Z
UID:966-1777379400-1777384800@commonwealthclubofadelaide.org.au
SUMMARY:Professor Richard Turner
DESCRIPTION:Hear the story behind Richard Turner’s family journey across the founding three of South Australia’s largest private companies across different sectors. From Holbrook Meat to T&R Pastoral to Thomas Foods International\, Regency Food Services to Bidvest to Bidfood and ZEN Home Energy Systems to ZEN Energy. \nRichard was Australian Entrepreneur of the Year in 2010\, South Australian Entrepreneur of the Year twice in 1996 and 2010\, Founding President of the Young Entrepreneurs Organisation in 1998 (now the Entrepreneurs Organisation)\, Deputy Chair of the Premiers Climate Change Council (2020-2023) and Entrepreneur in Residence at the University of South Australia (2019-2021). \nRichard has now put a lifetime of learnings in starting and scaling successful businesses into his book “The Essential Entrepreneur” released by Wiley Publishing.
URL:https://commonwealthclubofadelaide.org.au/event/professor-richard-turner/
LOCATION:Adelaide Pavilion\, Corner South Terrace & Peacock Road\, Adelaide 5000\, South Parklands\, South Terrace\, Adelaide\, SA\, 5000\, Australia
ATTACH;FMTTYPE=image/jpeg:https://commonwealthclubofadelaide.org.au/wp-content/uploads/2026/04/richard-turner.jpg
END:VEVENT
BEGIN:VEVENT
DTSTART;TZID=Australia/Adelaide:20260526T123000
DTEND;TZID=Australia/Adelaide:20260526T140000
DTSTAMP:20260423T215920
CREATED:20260422T223247Z
LAST-MODIFIED:20260422T223314Z
UID:971-1779798600-1779804000@commonwealthclubofadelaide.org.au
SUMMARY:Heather Croall AM
DESCRIPTION:Heather Croall is a leading Australian arts and cultural executive\, currently Director of Carrick Hill. She is widely recognised for her dynamic leadership as former Director & CEO of Adelaide Fringe\, where she drove record breaking audience growth and introduced innovative program activation. \nPreviously Croall was Festival Director of Sheffield DocFest in the UK\, elevating it into one of the world’s best documentary festivals\, while pioneering screenings and events in heritage sites across the Yorkshire Dales and in the Peak District. Her career spans film\, festivals\, and cultural strategy\, with a strong focus on audience engagement and place-based story telling. In her talk Heather explores how historic homes and gardens can be transformed with bold artistic activations that tell stories with strong connections to the site. \nDrawing on her innovative work at the Adelaide Fringe and her international experience\, Heather will share insights into blending arts\, history and environment to reimagine cultural spaces for contemporary audiences. \nAppointed a Member of the Order of Australia (AM)\, Croall is celebrated for her contribution to the arts\, her global perspective\, and her commitment to revitalising historic spaces through creative innovation. \nHeather Croall AM will speak on the subject: “Activating Arts\, History & Landscape at Heritage Sites.”
URL:https://commonwealthclubofadelaide.org.au/event/heather-croall-am/
LOCATION:Adelaide Pavilion\, Corner South Terrace & Peacock Road\, Adelaide 5000\, South Parklands\, South Terrace\, Adelaide\, SA\, 5000\, Australia
ATTACH;FMTTYPE=image/jpeg:https://commonwealthclubofadelaide.org.au/wp-content/uploads/2026/04/croall.jpg
END:VEVENT
END:VCALENDAR